BEGIN:VCALENDAR
VERSION:2.0
PRODID:-//wp-events-plugin.com//7.2.3.1//EN
TZID:Europe/Paris
X-WR-TIMEZONE:Europe/Paris
BEGIN:VEVENT
UID:3@testetp.muco-cftr.fr
DTSTART;TZID=Europe/Paris:20260309T140000
DTEND;TZID=Europe/Paris:20260309T160000
DTSTAMP:20260206T075710Z
URL:https://testetp.muco-cftr.fr/evenements/groupe-de-travail-mucoglucose-
 2026-03-09/
SUMMARY:Groupe de travail MucoGlucose
DESCRIPTION:En visioconférence
CATEGORIES:Sous-groupes Gethem
END:VEVENT
BEGIN:VTIMEZONE
TZID:Europe/Paris
X-LIC-LOCATION:Europe/Paris
BEGIN:STANDARD
DTSTART:20251026T020000
TZOFFSETFROM:+0200
TZOFFSETTO:+0100
TZNAME:CET
END:STANDARD
END:VTIMEZONE
END:VCALENDAR